BEGIN:VCALENDAR
VERSION:2.0
PRODID:-//https://johannes-gemeinde.de///NONSGML kigkonsult.se iCalcreator 2.10.15//
METHOD:PUBLISH
BEGIN:VEVENT
UID:20260423T112726CEST-8840DfzrVt@https://johannes-gemeinde.de/
DTSTAMP:20260423T092726Z
DESCRIPTION:In der Rappelkiste treffen sich Kinder im Alter von 6-8 Jahren.
  Es werden coole Lieder gesungen\, lustige Spiele gespielt und tolle Sache
 n gebastelt.Hin und wieder stehen besondere Aktionen wie z.B. Radtouren\, 
 Minigolf und andere Abenteuer auf dem Programm.Die Kinder erfahren über Ge
 schichten aus der Bibel\, dass Gott sie liebt und Jesus ein echter Freund 
 für´s Leben ist\, der ihnen immer zur Seite steht. (Bild: © HaywireMedia) 
 https://johannes-gemeinde.de/component/rseventspro/event/501-rappelkiste-6
 -8-jahre?Itemid=101
DTSTART:20190626T143000Z
DTEND:20190626T163000Z
LOCATION:Johannes-Gemeinde (Hahnenhorner Str. 2 \, Müden \, Germany)
SUMMARY:Rappelkiste (6-8 Jahre)
URL:https://johannes-gemeinde.de/component/rseventspro/event/501-rappelkist
 e-6-8-jahre?Itemid=101
END:VEVENT
END:VCALENDAR
