BEGIN:VCALENDAR
VERSION:2.0
PRODID:-//https://johannes-gemeinde.de///NONSGML kigkonsult.se iCalcreator 2.10.15//
METHOD:PUBLISH
BEGIN:VEVENT
UID:20260423T125843CEST-3778X8He6c@https://johannes-gemeinde.de/
DTSTAMP:20260423T105843Z
DESCRIPTION:(Bild: ©PhotoSG) https://johannes-gemeinde.de/component/rsevent
 spro/event/562-gymnastik-gruppe-für-frauen?Itemid=101
DTSTART:20191001T153000Z
DTEND:20191001T173000Z
LOCATION:Johannes-Gemeinde (Hahnenhorner Str. 2 \, Müden \, Germany)
SUMMARY:Gymnastik-Gruppe für Frauen
URL:https://johannes-gemeinde.de/component/rseventspro/event/562-gymnastik-
 gruppe-für-frauen?Itemid=101
END:VEVENT
END:VCALENDAR
